BEGIN:VCALENDAR
VERSION:2.0
PRODID:-//Designers Pavilion - ECPv6.8.3//NONSGML v1.0//EN
CALSCALE:GREGORIAN
METHOD:PUBLISH
X-WR-CALNAME:Designers Pavilion
X-ORIGINAL-URL:https://pavilion.wisedog.gr
X-WR-CALDESC:Events for Designers Pavilion
REFRESH-INTERVAL;VALUE=DURATION:PT1H
X-Robots-Tag:noindex
X-PUBLISHED-TTL:PT1H
BEGIN:VTIMEZONE
TZID:Europe/Athens
BEGIN:DAYLIGHT
TZOFFSETFROM:+0200
TZOFFSETTO:+0300
TZNAME:EEST
DTSTART:20200329T010000
END:DAYLIGHT
BEGIN:STANDARD
TZOFFSETFROM:+0300
TZOFFSETTO:+0200
TZNAME:EET
DTSTART:20201025T010000
END:STANDARD
END:VTIMEZONE
BEGIN:VEVENT
DTSTART;TZID=Europe/Athens:20200131T180000
DTEND;TZID=Europe/Athens:20200131T220000
DTSTAMP:20260423T014020
CREATED:20200117T140641Z
LAST-MODIFIED:20200122T161104Z
UID:15743-1580493600-1580508000@pavilion.wisedog.gr
SUMMARY:LIVE SCREENPRINTING BY SOUL TRAITS
DESCRIPTION:Designers Pavilion III in collaboration with Studio SoulTraits present a live screen printing session at area#03. You are all welcome to watch and participate in some of screen printing’s most common methods and to new experimental ones. It is a great opportunity to ask Evaggelos about any question on screen printing techniques and its new methods. Get to know the procedure and participate in the discussion that will take place. Poster artwork will be printed to demonstrate the advantages of screen printing and its methods in many types of paper. \nΤο Designers Pavilion III σε συνεργασία με το studio Soul Traits στην Πάτρα διοργανώνουν ένα live μεταξοτυπίας στην περιοχή #03 του Wisedog. Είστε όλοι ευπρόσδεκτοι να παρακολουθήσετε κλασικές μεθόδους μεταξοτυπίας\, αλλά και κάποιες νέες πιο πειραματικές. Θα έχετε τη δυνατότητα να ρωτήσετε τον Ευάγγελο για οποιαδήποτε απορία έχετε πάνω στην μέθοδο της μεταξοτυπίας και τις τεχνικές της.. Γνωρίστε τη διαδικασία και συμμετάσχετε στην  ανοιχτή συζήτηση που θα λάβει χώρα. Το artwork της αφίσας θα τυπωθεί με διάφορες μεθόδους σε πολλά είδη  χαρτιού για να βοηθήσει το κοινό να καταλάβει τα πλεονεκτήματα της μεταξοτυπίας ως τεχνικής εκτύπωσης.
URL:https://pavilion.wisedog.gr/event/live-screenprinting-by-soul-traits/
LOCATION:WISEDOG\, SKILOSOFOU 3\, LARISSA\, Thessaly\, 41221\, Greece
ATTACH;FMTTYPE=image/jpeg:https://pavilion.wisedog.gr/wp-content/uploads/2020/01/live-screenprinting-poster-print.jpg
ORGANIZER;CN="Soul Traits":MAILTO:studiosoultraits@gmail.com
END:VEVENT
END:VCALENDAR